BEGIN:VCALENDAR
VERSION:2.0
PRODID:icalendar-ruby
CALSCALE:GREGORIAN
METHOD:PUBLISH
BEGIN:VEVENT
DTSTAMP:20260424T074532Z
UID:121-2189913@crosskeysbaptistchurch.org
DTSTART:20260930T230000Z
DTEND:20261001T000000Z
CLASS:PUBLIC
CREATED:20260423T205617
DESCRIPTION:\nJoin us on Wednesday Nights starting 10/23 at 6pm in the Yout
 h Room (lower level) for a time of Bible Study and prayer!\n\n\nYouth Grou
 p is open to Middle School and High School students.\n\n\n**Please enter u
 sing the Main Entrance (big green doors) on side right side of the buildin
 g**\n
LAST-MODIFIED:20260423T205617
LOCATION:Youth Room
SUMMARY:Youth Group
URL;VALUE=URI:https://www.crosskeysbaptistchurch.org/events/youth-group/202
 6-09-30
ATTACH;FILENAME=Youth-Group-Slide.png;FMTTYPE=image/png:https://dq5pwpg1q8r
 u0.cloudfront.net/2024/10/15/20/17/45/186bdc74-92bf-4aee-8ff3-722478ca3ec5
 /Youth-Group-Slide.png
END:VEVENT
END:VCALENDAR
