BEGIN:VCALENDAR
VERSION:2.0
PRODID:icalendar-ruby
CALSCALE:GREGORIAN
METHOD:PUBLISH
BEGIN:VEVENT
DTSTAMP:20260424T072152Z
UID:129-2190005@crosskeysbaptistchurch.org
DTSTART:20260930T230000Z
DTEND:20261001T000000Z
CLASS:PUBLIC
CREATED:20260423T205618
DESCRIPTION:Join us each week for an exciting and engaging Children’s Bib
 le Study\, where kids will dive into God’s Word through fun lessons\, in
 teractive activities\, and meaningful discussions. Designed for young hear
 ts and minds\, this study helps children build a strong foundation of fait
 h\, learn key Bible truths\, and grow in their relationship with Jesus. Co
 me ready to explore\, learn\, and experience the love of Christ in a fun a
 nd welcoming environment!\n\n When: Wednesdays @ 6:00pm\n\n Where: Element
 ary Classroom - Room 103 (Lower Level)\n Ages: K-5th Grade\n\nWe can’t w
 ait to see you there!\n
LAST-MODIFIED:20260423T205618
LOCATION:Elementary Classroom - Room 103 (Lower Level)
SUMMARY:Children's Bible Study
URL;VALUE=URI:https://www.crosskeysbaptistchurch.org/events/childrens-bible
 -study/2026-09-30
ATTACH;FILENAME=Children%27s-Bible-Study.png;FMTTYPE=image/png:https://dq5p
 wpg1q8ru0.cloudfront.net/2025/02/06/17/29/21/c83cfd9a-8cf0-428f-9c9a-0f785
 e1a615b/Children%2527s-Bible-Study.png
END:VEVENT
END:VCALENDAR
